BEGIN:VCALENDAR
METHOD:PUBLISH
VERSION:2.0
PRODID: TUL
BEGIN:VEVENT
SUMMARY:POZOR - PŘESOUVÁ SE NA PODZIMNÍ TERMÍN  Den duševního zdraví
UID:20
STATUS:TENTATIVE
DESCRIPTION:Osamělost duše v sítích - přednášky a workshopy pořádané v rámci Dne duševního zdraví.
Program – workshopy od 11.45 v budově F3 (Fakulta zdravotnických studií)
 
Moje jméno není diagnóza: strukturovaná beseda 3 lidí se zkušeností s duševním onemocněním. Přednáší: Bc. Lenka Schneiderová (projekt Destigmatizace)11.45 - 12.45 (učebna FZS 10, 3.p)Odkaz pro registraci: Moje jméno není diagnóza - Registrace
Art Workshop: energie hudby proti osamělostiPřednáší: Bc. Pavlína Rejlková12.45–13.45 (učebna FZS 14, 3.p)Odkaz pro registraci: Energie hudby proti osamělosti - Registrace
Co všechno o sobě sdělujeme a jak nás vnímá okolíPřednášející: PhDr. Jana Woleská, Ph.D. 12.45–13.45 (učebna FZS 11, 3.p)Odkaz pro registraci: Co všechno o sobě sdělujeme a jak nás vnímá okolí - Registrace
Trénink paměti proti osamělosti. Začátky skupinové prácePřednášející: Mgr. Lenka Nádvorníková, Ph.D11.45 - Trénink paměti proti osamělosti - Registrace12.10 - Trénink paměti proti osamělosti - Registrace12.40 - Trénink paměti proti osamělosti - Registraceskupiny po 6 účastnících, program na dvacet minut ve fakultní knihovně (FZS, 1.p)
 
DTSTAMP:20200318T160000
DTSTART:20200318
LAST-MODIFIED:
LOCATION:
END:VEVENT

END:VCALENDAR