BEGIN:VCALENDAR
METHOD:PUBLISH
VERSION:2.0
PRODID: TUL
BEGIN:VEVENT
SUMMARY:Den otevřených dveří FZS TUL
UID:38
STATUS:TENTATIVE
DESCRIPTION:Připravujeme pro vás virtuální prohlídku Fakulty zdravotnických studií Technické univerzity v Liberci a on-line vysílání 12. února 2021.
 
Všechny průběžně aktualizované informace naleznete ZDE
 

DTSTAMP:20210211T160000
DTSTART:20210211
LAST-MODIFIED:
LOCATION:
END:VEVENT

END:VCALENDAR